View In:
ArcGIS JavaScript
ArcGIS Online map viewer
Google Earth
ArcMap
View Footprint In:
ArcGIS Online map viewer
Service Description: Imagery from the 1970s scanned, georeferenced, and mosaiced (by county) by the Indiana Department of Transportation. Includes the following county mosaics ([county]_[year]: Clay_1977, Gibson_1979, Greene_1977, Knox_1976, Pike_1977, Sullivan79, Vanderburgh_1976, Vermillion_1976, Vigo_1976, Warrick_1977.
Name: Imagery/1970s_Archival_Imagery
Description: Imagery from the 1970s scanned, georeferenced, and mosaiced (by county) by the Indiana Department of Transportation. Includes the following county mosaics ([county]_[year]: Clay_1977, Gibson_1979, Greene_1977, Knox_1976, Pike_1977, Sullivan79, Vanderburgh_1976, Vermillion_1976, Vigo_1976, Warrick_1977.
Single Fused Map Cache: false
Extent:
XMin: 412380.27219999954
YMin: 4178676.3084000014
XMax: 535470.0945999993
YMax: 4469705.1396
Spatial Reference: 26916
(26916)
Initial Extent:
XMin: 412380.27219999954
YMin: 4178676.3084000014
XMax: 535470.0945999993
YMax: 4469705.1396
Spatial Reference: 26916
(26916)
Full Extent:
XMin: 412380.27219999954
YMin: 4178676.3084000014
XMax: 535470.0945999993
YMax: 4469705.1396
Spatial Reference: 26916
(26916)
Pixel Size X: 0.3047999999999993
Pixel Size Y: 0.3047999999999989
Band Count: 1
Pixel Type: U16
RasterFunction Infos: {"name":"None","description":"A No-Op Function.","help":""}
Mensuration Capabilities: Basic
Has Histograms: true
Has Colormap: false
Has Multi Dimensions : false
Rendering Rule:
Min Scale: 0
Max Scale: 0
Copyright Text: Indiana Department of Transportation
Service Data Type: esriImageServiceDataTypeGeneric
Min Values: 1
Max Values: 329
Mean Values: 142.04784022910536
Standard Deviation Values: 46.19753266741869
Object ID Field: OBJECTID
Fields:
-
OBJECTID
(
type: esriFieldTypeOID
, alias: OBJECTID
)
-
Shape
(
type: esriFieldTypeGeometry
, alias: Shape
)
-
Name
(
type: esriFieldTypeString
, alias: Name
, length: 200
)
-
MinPS
(
type: esriFieldTypeDouble
, alias: MinPS
)
-
MaxPS
(
type: esriFieldTypeDouble
, alias: MaxPS
)
-
LowPS
(
type: esriFieldTypeDouble
, alias: LowPS
)
-
HighPS
(
type: esriFieldTypeDouble
, alias: HighPS
)
-
Category
(
type: esriFieldTypeInteger
, alias: Category
, Coded Values:
[0: Unknown]
, [1: Primary]
, [2: Overview]
, ...6 more...
)
-
Tag
(
type: esriFieldTypeString
, alias: Tag
, length: 100
)
-
GroupName
(
type: esriFieldTypeString
, alias: GroupName
, length: 100
)
-
ProductName
(
type: esriFieldTypeString
, alias: ProductName
, length: 100
)
-
CenterX
(
type: esriFieldTypeDouble
, alias: CenterX
)
-
CenterY
(
type: esriFieldTypeDouble
, alias: CenterY
)
-
ZOrder
(
type: esriFieldTypeInteger
, alias: ZOrder
)
-
Thumbnail
(
type: esriFieldTypeBlob
, alias: Thumbnail
)
-
Shape_Length
(
type: esriFieldTypeDouble
, alias: Shape_Length
)
-
Shape_Area
(
type: esriFieldTypeDouble
, alias: Shape_Area
)
Default Mosaic Method: Center
Allowed Mosaic Methods: Center,NorthWest,LockRaster,ByAttribute,Nadir,Viewpoint,Seamline,None
SortField:
SortValue: null
Mosaic Operator: First
Default Compression Quality: 75
Default Resampling Method: Bilinear
Max Record Count: 1000
Max Image Height: 4100
Max Image Width: 15000
Max Download Image Count: 20
Max Mosaic Image Count: 20
Allow Raster Function: true
Allow Compute TiePoints: false
Supports Statistics: true
Supports Advanced Queries: true
Use StandardizedQueries: true
Raster Type Infos:
Name: Raster Dataset
Description: Supports all ArcGIS Raster Datasets
Help:
Has Raster Attribute Table: false
Edit Fields Info: null
Ownership Based AccessControl For Rasters: null
Child Resources:
Info
Histograms
Key Properties
Legend
MultiDimensionalInfo
rasterFunctionInfos
Supported Operations:
Export Image
Query
Identify
Compute Histograms
Compute Statistics Histograms
Get Samples
Compute Class Statistics